BEGIN:VCALENDAR
VERSION:2.0
PRODID:-//Tziporah Intimacy - ECPv6.10.3//NONSGML v1.0//EN
CALSCALE:GREGORIAN
METHOD:PUBLISH
X-WR-CALNAME:Tziporah Intimacy
X-ORIGINAL-URL:https://tziporahintimacy.com
X-WR-CALDESC:Events for Tziporah Intimacy
REFRESH-INTERVAL;VALUE=DURATION:PT1H
X-Robots-Tag:noindex
X-PUBLISHED-TTL:PT1H
BEGIN:VTIMEZONE
TZID:America/Los_Angeles
BEGIN:DAYLIGHT
TZOFFSETFROM:-0800
TZOFFSETTO:-0700
TZNAME:PDT
DTSTART:20200308T100000
END:DAYLIGHT
BEGIN:STANDARD
TZOFFSETFROM:-0700
TZOFFSETTO:-0800
TZNAME:PST
DTSTART:20201101T090000
END:STANDARD
END:VTIMEZONE
BEGIN:VEVENT
DTSTART;TZID=America/Los_Angeles:20200306T163000
DTEND;TZID=America/Los_Angeles:20200315T180000
DTSTAMP:20260422T091446
CREATED:20200123T023704Z
LAST-MODIFIED:20200123T031204Z
UID:4849-1583512200-1584295200@tziporahintimacy.com
SUMMARY:Conscious Connected Breath Work Facilitator Training
DESCRIPTION:Are you wanting to deepen your understanding and skill set with Integrative Breath work Therapy? Desire to add to your skill set as a therapist\, body worker\, sex and relationship coach or feel the call to be a breath work facilitator? \nLevel 2 is an experiential dive into the therapeutic modality of Conscious Breath work. It is your opportunity to deepen your personal experience with Nūma Breath work and develop an understanding of its foundational theories\, philosophy\, and science. \nYou will receive and provide “Nūma” Breath work sessions with fellow students as you develop the practical skillsets required to safely facilitate transformational one-on-one breath work sessions. \nYou will learn to: \n<3 Foster a confidential healing space \n<3 Read basic psycho-emotional patterns embedded within the body’s tensions and habitual breathing patterns \n<3 Make sensitive contact verbally\, energetically\, and physically \n<3 Utilize a wide variety of tools and practices to support deep release within the body and breath \nPrerequisite – Have one of the below: \n<3 Full weekend attendance to a conscious connected breath work seminar \n<3 Minimum of 5 private sessions from a qualified breath work facilitator. This would include working with myself or another teacher/school. \n  \n \nWhat does full Training Include: \nTraining includes the five (5) day in-person training split into two weekend modules\, one web meeting\, home studies\, and a practicum. Home studies include review of teachings during the Level 2 training as well as assigned studies and practicum hours during the time between Level 2 and Level 3. \n  \n  \nRegistration Form \nhttps://drive.google.com/open?id=1tlzdIRwN-SDMJS1odrl1Rh-Ccge1OEAa \nRequirements for Certification \nCertification as a Conscious Connected Breath work Facilitator is granted upon the successful completion of all components of the 300-hr Nūma Breath work Facilitator Training which this Level 2 Modules a part of. \nThis includes: \n\nAttendance of the entire in-person training – all five (5) levels.\nCompletion of all assigned web meetings (min 8 hours total)\nCompletion of all assigned home studies and practicum hours (136 hours)\, including:\nFive (5) free one-on-one sessions with friends/family (Following Level 2)\nTen (10) free or by-donation one-on-one sessions with friends/family (following Levels 3 and 4)\nFive (5) free or by-donations group sessions (2-3 participants) with friends/family (following Level 5)\nFifteen (15) self-sessions (at least five (5) must be solo/self-directed\, others may be facilitated)\n10-week daily home breathwork practice (two 15-min sessions per day) or completing the Presence Process\nReview of training manual after each level of training\nReading of four (4) assigned books and writing a .5 – 1 page summary per book of key aspects that pertain to Nūma Breathwork facilitation (additional details on summaries provided during the training)\nComprehensive review of training manual (post Level 5)\nSubmission of documentation providing details of completion of home studies and practicum hours for review by your Trainer.\n\nNote: Certification is not guaranteed. Each trainee must demonstrate that they are both competent with the theories\, principles\, and practices of Nūma Breathwork and capable of holding safe\, confidential healing space for others. If any of these elements are in question\, the trainee may be asked to complete additional practices or training to develop the specific skillsets prior to receiving certification as a Nūma Breathwork Facilitator.
URL:https://tziporahintimacy.com/event/conscious-connected-breath-work-facilitator-training/
LOCATION:Carlsbad\, California\, 92009
ATTACH;FMTTYPE=image/jpeg:https://tziporahintimacy.com/wp-content/uploads/IMG_0019-1.jpg
ORGANIZER;CN="Tziporah Kingsbury":MAILTO:tziporah@saporaknight.com
END:VEVENT
END:VCALENDAR